BEGIN:VCALENDAR
VERSION:2.0
PRODID:-//Sea-Gal מועדון היאכטות הישראלי - ECPv5.8.1//NONSGML v1.0//EN
CALSCALE:GREGORIAN
METHOD:PUBLISH
X-WR-CALNAME:Sea-Gal מועדון היאכטות הישראלי
X-ORIGINAL-URL:https://www.sea-gal.co.il
X-WR-CALDESC:אירועים ל Sea-Gal מועדון היאכטות הישראלי
BEGIN:VTIMEZONE
TZID:Asia/Jerusalem
BEGIN:DAYLIGHT
TZOFFSETFROM:+0200
TZOFFSETTO:+0300
TZNAME:IDT
DTSTART:20200327T000000
END:DAYLIGHT
BEGIN:STANDARD
TZOFFSETFROM:+0300
TZOFFSETTO:+0200
TZNAME:IST
DTSTART:20201024T230000
END:STANDARD
END:VTIMEZONE
BEGIN:VEVENT
DTSTART;TZID=Asia/Jerusalem:20200319T150000
DTEND;TZID=Asia/Jerusalem:20200319T170000
DTSTAMP:20210722T175314
CREATED:20200224T142452Z
LAST-MODIFIED:20200319T094803Z
UID:10558-1584630000-1584637200@www.sea-gal.co.il
SUMMARY:הסמכה ( סירה אגפי)
DESCRIPTION:
URL:https://www.sea-gal.co.il/event/%d7%94%d7%a1%d7%9e%d7%9b%d7%94-%d7%a1%d7%99%d7%a8%d7%94-%d7%90%d7%92%d7%a4%d7%99/
CATEGORIES:לחברים בלבד
ATTACH;FMTTYPE=image/jpeg:https://www.sea-gal.co.il/wp-content/uploads/2020/03/0311-2018-060048146363914747659.jpeg
END:VEVENT
END:VCALENDAR