BEGIN:VCALENDAR
VERSION:2.0
PRODID:-//Sea-Gal מועדון היאכטות הישראלי - ECPv5.9.1//NONSGML v1.0//EN
CALSCALE:GREGORIAN
METHOD:PUBLISH
X-WR-CALNAME:Sea-Gal מועדון היאכטות הישראלי
X-ORIGINAL-URL:https://www.sea-gal.co.il
X-WR-CALDESC:אירועים ל Sea-Gal מועדון היאכטות הישראלי
BEGIN:VTIMEZONE
TZID:Asia/Jerusalem
BEGIN:DAYLIGHT
TZOFFSETFROM:+0200
TZOFFSETTO:+0300
TZNAME:IDT
DTSTART:20210326T000000
END:DAYLIGHT
BEGIN:STANDARD
TZOFFSETFROM:+0300
TZOFFSETTO:+0200
TZNAME:IST
DTSTART:20211030T230000
END:STANDARD
END:VTIMEZONE
BEGIN:VEVENT
DTSTART;TZID=Asia/Jerusalem:20211031T190000
DTEND;TZID=Asia/Jerusalem:20211031T210000
DTSTAMP:20210928T040446
CREATED:20210826T094937Z
LAST-MODIFIED:20210927T094021Z
UID:16517-1635706800-1635714000@www.sea-gal.co.il
SUMMARY:הפלגת לילה לסקיפרים חברי מועדון ''מקרים ותגובות''
DESCRIPTION:סילבוס ההפלגה: בהובלת הסקיפר משה כהן \nעד 8 סקיפרים \n  \n\n\n\nהפעילות\nהערות\n\n\n\n\n\n\n\nיציאה מהמרינה\n\n\n\n\n\n\n\n\nבפתח- כיבוי מנוע\n\n\n\n\n\n\n\n\nפתיחת חלוץ- בריחה מסכנה\n\n\n\n\n\n\n\n\nקריעת ונטה\n\n\n\n\n\n\n\n\nקריעת מיתר חלוץ\n\n\n\n\n\n\n\n\nתקלת הגה\n\n\n\n\n\n\n\n\nהורדת עוגן צף- רק במידה ונשאר זמן\n\n\n\n\n  \nלא יבוצעו תרגולים אישיים! \n  \nמשך הפלגה: שעתיים \n  \nכללי ברזל לכל הפלגה: \n  \n\nברגע ששומעים צפצוף מכבים מיד את המנוע.\n\n\nאין גרירה עם הסירות (אבוב/סאפ/אדם בים).\n\n\nאין הורדת אנשים באיבטו! (הורדת מפרשים מלאה\, כיבוי מנוע מלא ואז ניתן לרדת למים).\n\n\nמעבר על חפרפרת חבלים.\n\n\nפתיחת וסגירת מפרשים תקינה.\n\n  \n  \nהפלגה נעימה!
URL:https://www.sea-gal.co.il/event/%d7%94%d7%a4%d7%9c%d7%92%d7%aa-%d7%9c%d7%99%d7%9c%d7%94-%d7%9c%d7%a1%d7%a7%d7%99%d7%a4%d7%a8%d7%99%d7%9d-%d7%97%d7%91%d7%a8%d7%99-%d7%9e%d7%95%d7%a2%d7%93%d7%95%d7%9f-%d7%9e%d7%a7%d7%a8%d7%99/
CATEGORIES:מקודמים בדף הבית,לחברים בלבד,הפלגות
ATTACH;FMTTYPE=image/png:https://www.sea-gal.co.il/wp-content/uploads/2020/02/Screenshot_2019-12-29-18-10-33.png
END:VEVENT
END:VCALENDAR