BEGIN:VCALENDAR
VERSION:2.0
PRODID:-//Sea-Gal מועדון היאכטות הישראלי - ECPv5.8.1//NONSGML v1.0//EN
CALSCALE:GREGORIAN
METHOD:PUBLISH
X-WR-CALNAME:Sea-Gal מועדון היאכטות הישראלי
X-ORIGINAL-URL:https://www.sea-gal.co.il
X-WR-CALDESC:אירועים ל Sea-Gal מועדון היאכטות הישראלי
BEGIN:VTIMEZONE
TZID:Asia/Jerusalem
BEGIN:DAYLIGHT
TZOFFSETFROM:+0200
TZOFFSETTO:+0300
TZNAME:IDT
DTSTART:20210326T000000
END:DAYLIGHT
BEGIN:STANDARD
TZOFFSETFROM:+0300
TZOFFSETTO:+0200
TZNAME:IST
DTSTART:20211030T230000
END:STANDARD
END:VTIMEZONE
BEGIN:VEVENT
DTSTART;TZID=Asia/Jerusalem:20210803T150000
DTEND;TZID=Asia/Jerusalem:20210803T180000
DTSTAMP:20210730T123328
CREATED:20210721T140243Z
LAST-MODIFIED:20210721T140243Z
UID:16313-1628002800-1628013600@www.sea-gal.co.il
SUMMARY:הפלגת קורס ימאות לתלמידים בלבד
DESCRIPTION:הכרת הסירה\nיציאה לים\nהסבר על שיטת מיצוף\nהרמת מפרשים – הסברים\nהפלגה בקדמית- הסברים\nלימוד סיבוב\nהפלגות ברוח צד\nהפלגות ברוח גבית\nלימוד מהפך\nמקרים ותגובות\nהבדלים בין יום ללילה\n\n  \nהפלגת לילה (חושך) : \n  \n\nדרכי שמירת כיוון\nהכרת אורות\nהכרת קו החוף של הרצליה\nסיבוב ומהפך\nדגשים לבטיחות\nהורדת מפרשים\nכניסה עם מנוע למרינה\nהסברים על דגשים בלילה – מרחק מסלעים\nכיוון כניסה נכון\n\n 
URL:https://www.sea-gal.co.il/event/%d7%94%d7%a4%d7%9c%d7%92%d7%aa-%d7%a7%d7%95%d7%a8%d7%a1-%d7%99%d7%9e%d7%90%d7%95%d7%aa-%d7%9c%d7%aa%d7%9c%d7%9e%d7%99%d7%93%d7%99%d7%9d-%d7%91%d7%9c%d7%91%d7%93-27/
CATEGORIES:הפלגות
ATTACH;FMTTYPE=image/jpeg:https://www.sea-gal.co.il/wp-content/uploads/2020/06/gallery-5.jpg
END:VEVENT
END:VCALENDAR