BEGIN:VCALENDAR
VERSION:2.0
PRODID:-//Sea-Gal מועדון היאכטות הישראלי - ECPv5.9.1//NONSGML v1.0//EN
CALSCALE:GREGORIAN
METHOD:PUBLISH
X-WR-CALNAME:Sea-Gal מועדון היאכטות הישראלי
X-ORIGINAL-URL:https://www.sea-gal.co.il
X-WR-CALDESC:אירועים ל Sea-Gal מועדון היאכטות הישראלי
BEGIN:VTIMEZONE
TZID:Asia/Jerusalem
BEGIN:DAYLIGHT
TZOFFSETFROM:+0200
TZOFFSETTO:+0300
TZNAME:IDT
DTSTART:20210326T000000
END:DAYLIGHT
BEGIN:STANDARD
TZOFFSETFROM:+0300
TZOFFSETTO:+0200
TZNAME:IST
DTSTART:20211030T230000
END:STANDARD
END:VTIMEZONE
BEGIN:VEVENT
DTSTART;TZID=Asia/Jerusalem:20210912T140000
DTEND;TZID=Asia/Jerusalem:20210912T160000
DTSTAMP:20210928T040116
CREATED:20210827T065558Z
LAST-MODIFIED:20210827T065559Z
UID:16554-1631455200-1631462400@www.sea-gal.co.il
SUMMARY:הפלגת קורס ניווט מכשירים לתלמידים בלבד
DESCRIPTION:הסבר על כל המכשירים\n\n\nנווטקס\nGPS – צארט פלוטר\nפאנל חשמל\nלהראות מד עומק ומהירות בקרקעית היאכטה\n\n\nיציאה לים\n\n\nהגה אוטומט כנגד צארט פלוטר (מלמטה מישהו מכוון מלעלה נוהג)\nמד רוח/כיוון רוח\nעומק\nמהירות\n\n 
URL:https://www.sea-gal.co.il/event/%d7%94%d7%a4%d7%9c%d7%92%d7%aa-%d7%a7%d7%95%d7%a8%d7%a1-%d7%a0%d7%99%d7%95%d7%95%d7%98-%d7%9e%d7%9b%d7%a9%d7%99%d7%a8%d7%99%d7%9d-%d7%9c%d7%aa%d7%9c%d7%9e%d7%99%d7%93%d7%99%d7%9d-%d7%91%d7%9c%d7%91-29/
CATEGORIES:הפלגות
ATTACH;FMTTYPE=image/jpeg:https://www.sea-gal.co.il/wp-content/uploads/2020/07/6e8aa82c-eac7-4031-aea3-61df79d0db97.jpg
END:VEVENT
END:VCALENDAR