BEGIN:VCALENDAR
VERSION:2.0
PRODID:-//Sea-Gal מועדון היאכטות הישראלי - ECPv5.8.1//NONSGML v1.0//EN
CALSCALE:GREGORIAN
METHOD:PUBLISH
X-WR-CALNAME:Sea-Gal מועדון היאכטות הישראלי
X-ORIGINAL-URL:https://www.sea-gal.co.il
X-WR-CALDESC:אירועים ל Sea-Gal מועדון היאכטות הישראלי
BEGIN:VTIMEZONE
TZID:Asia/Jerusalem
BEGIN:DAYLIGHT
TZOFFSETFROM:+0200
TZOFFSETTO:+0300
TZNAME:IDT
DTSTART:20200327T000000
END:DAYLIGHT
BEGIN:STANDARD
TZOFFSETFROM:+0300
TZOFFSETTO:+0200
TZNAME:IST
DTSTART:20201024T230000
END:STANDARD
END:VTIMEZONE
BEGIN:VEVENT
DTSTART;TZID=Asia/Jerusalem:20200308T140000
DTEND;TZID=Asia/Jerusalem:20200308T170000
DTSTAMP:20210722T175016
CREATED:20200224T144223Z
LAST-MODIFIED:20200224T144227Z
UID:10586-1583676000-1583686800@www.sea-gal.co.il
SUMMARY:מועדון מקצועי
DESCRIPTION:
URL:https://www.sea-gal.co.il/event/%d7%9e%d7%95%d7%a2%d7%93%d7%95%d7%9f-%d7%9e%d7%a7%d7%a6%d7%95%d7%a2%d7%99-5/
CATEGORIES:לחברים בלבד
ATTACH;FMTTYPE=image/jpeg:https://www.sea-gal.co.il/wp-content/uploads/2020/02/0411-2018-080271473530472785377-e1585400531157.jpeg
END:VEVENT
END:VCALENDAR