BEGIN:VCALENDAR
VERSION:2.0
PRODID:-//Sea-Gal מועדון היאכטות הישראלי - ECPv5.8.1//NONSGML v1.0//EN
CALSCALE:GREGORIAN
METHOD:PUBLISH
X-WR-CALNAME:Sea-Gal מועדון היאכטות הישראלי
X-ORIGINAL-URL:https://www.sea-gal.co.il
X-WR-CALDESC:אירועים ל Sea-Gal מועדון היאכטות הישראלי
BEGIN:VTIMEZONE
TZID:Asia/Jerusalem
BEGIN:DAYLIGHT
TZOFFSETFROM:+0200
TZOFFSETTO:+0300
TZNAME:IDT
DTSTART:20200327T000000
END:DAYLIGHT
BEGIN:STANDARD
TZOFFSETFROM:+0300
TZOFFSETTO:+0200
TZNAME:IST
DTSTART:20201024T230000
END:STANDARD
END:VTIMEZONE
BEGIN:VEVENT
DTSTART;TZID=Asia/Jerusalem:20200701T160000
DTEND;TZID=Asia/Jerusalem:20200701T190000
DTSTAMP:20210730T031534
CREATED:20200623T141552Z
LAST-MODIFIED:20200623T144736Z
UID:12574-1593619200-1593630000@www.sea-gal.co.il
SUMMARY:מועדון מקצועי לתלמידים חברי מועדון
DESCRIPTION:  \nהמועדון המקצועי של שיא-גל יתמקד בקידום התלמיד לרמת סקיפר מקצועי\, כולל ניהול יאכטה והפלגה נכונה עם מפרשים. \n  \nעל איזה סירה: סירות מעשי \n  \nמספר משתתפים מקסימלי:5 \n  \nזמן הפלגה: 3 שעות \nההפלגות יתמקדו בנושאים הבאים: \n  \n\nהכרת היאכטה – היכן נמצא כל מכשיר וכיצד הוא עובד\, משאבת שיפוליים\, מצברים\, מיכלי מים ודלק\, משאבת מים מתוקים\, חבלים ושימוש בחבלים\, הגה ומצערת הגז.\nמנוע – הכרת המנוע\, מערכת מים מתוקים\, מערכת מים מלוחים\, מערכת דלק\, מערכת שמן\, טיפולים שוטפים וטיפול בתקלות.\nתמרוני מנוע – שימוש בהסחה\, יחס לרוח\, יציאה וכניסה לרציף הבית\, גישות חרטום להורדת נוסע\, גישות ירכתיים (ים תיכונית)\, וגישות דופן לרציף התדלוק\nמפרשנות בסיסית – הכרת המפרשים והכוחות הפיזיקליים הפועלים עליהם\, הרמת מפרשים\, כיוון נכון של מפרשים\, סיבוב ומהפך\nמפרשנות מתקדמת – אדם בים\, הרמת מפרשים בלי מנוע\, צמצום מפרשים.\nמקרים ותגובות – קריעת וונטה\, חבל במדחף\, הצפה\, הכנה לסערה\, הפלגה בסערה\, שריפה ועוד…\nעגינה– מציאת נקודת עגינה\, ביצוע נוהל עגינה\, וידוא עגינה\, הרמת עוגן.\nניווט חופי – עבודה עם מצפן\, עבודה עם ג'י.פי.אס\, מציאת פיקס במספר שיטות\, תיקון תכוונים ועבודה על מפה\nקשרים – קשר מוט\, טבעת\, אורגים\, הצלה\, שמינית\, סטופר\, זקף\, ברווז\, עוגן\nניהול יאכטה – הוראות בטיחות\, מתן פקודות וחוקי דרך.
URL:https://www.sea-gal.co.il/event/%d7%9e%d7%95%d7%a2%d7%93%d7%95%d7%9f-%d7%9e%d7%a7%d7%a6%d7%95%d7%a2%d7%99-%d7%9c%d7%aa%d7%9c%d7%9e%d7%99%d7%93%d7%99%d7%9d-%d7%97%d7%91%d7%a8%d7%99-%d7%9e%d7%95%d7%a2%d7%93%d7%95%d7%9f-15/
CATEGORIES:העשרה,לחברים בלבד,קורסים
ATTACH;FMTTYPE=image/jpeg:https://www.sea-gal.co.il/wp-content/uploads/2020/06/gallery-1.jpg
END:VEVENT
BEGIN:VEVENT
DTSTART;TZID=Asia/Jerusalem:20200701T160000
DTEND;TZID=Asia/Jerusalem:20200701T180000
DTSTAMP:20210730T031534
CREATED:20200624T134114Z
LAST-MODIFIED:20200628T144243Z
UID:12671-1593619200-1593626400@www.sea-gal.co.il
SUMMARY:הפלגת ניווט מכשירים לתלמידים
DESCRIPTION:
URL:https://www.sea-gal.co.il/event/%d7%94%d7%a4%d7%9c%d7%92%d7%aa-%d7%a0%d7%91-%d7%9c%d7%aa%d7%9c%d7%9e%d7%99%d7%93%d7%99%d7%9d/
CATEGORIES:העשרה,לחברים בלבד
ATTACH;FMTTYPE=image/jpeg:https://www.sea-gal.co.il/wp-content/uploads/2020/06/gallery-4.jpg
END:VEVENT
END:VCALENDAR