BEGIN:VCALENDAR
VERSION:2.0
PRODID:-//Sea-Gal מועדון היאכטות הישראלי - ECPv5.8.1//NONSGML v1.0//EN
CALSCALE:GREGORIAN
METHOD:PUBLISH
X-WR-CALNAME:Sea-Gal מועדון היאכטות הישראלי
X-ORIGINAL-URL:https://www.sea-gal.co.il
X-WR-CALDESC:אירועים ל Sea-Gal מועדון היאכטות הישראלי
BEGIN:VTIMEZONE
TZID:Asia/Jerusalem
BEGIN:DAYLIGHT
TZOFFSETFROM:+0200
TZOFFSETTO:+0300
TZNAME:IDT
DTSTART:20200327T000000
END:DAYLIGHT
BEGIN:STANDARD
TZOFFSETFROM:+0300
TZOFFSETTO:+0200
TZNAME:IST
DTSTART:20201024T230000
END:STANDARD
END:VTIMEZONE
BEGIN:VEVENT
DTSTART;TZID=Asia/Jerusalem:20200806T160000
DTEND;TZID=Asia/Jerusalem:20200806T180000
DTSTAMP:20210722T174551
CREATED:20200727T130004Z
LAST-MODIFIED:20200727T130004Z
UID:12933-1596729600-1596736800@www.sea-gal.co.il
SUMMARY:הפלגת ניווט מכשירים לתלמידים
DESCRIPTION:
URL:https://www.sea-gal.co.il/event/%d7%94%d7%a4%d7%9c%d7%92%d7%aa-%d7%a0%d7%99%d7%95%d7%95%d7%98-%d7%9e%d7%9b%d7%a9%d7%99%d7%a8%d7%99%d7%9d-%d7%9c%d7%aa%d7%9c%d7%9e%d7%99%d7%93%d7%99%d7%9d-5/
CATEGORIES:הפלגות
ATTACH;FMTTYPE=image/jpeg:https://www.sea-gal.co.il/wp-content/uploads/2020/06/gallery-4.jpg
END:VEVENT
END:VCALENDAR