BEGIN:VCALENDAR
VERSION:2.0
PRODID:-//Sea-Gal מועדון היאכטות הישראלי - ECPv5.8.1//NONSGML v1.0//EN
CALSCALE:GREGORIAN
METHOD:PUBLISH
X-WR-CALNAME:Sea-Gal מועדון היאכטות הישראלי
X-ORIGINAL-URL:https://www.sea-gal.co.il
X-WR-CALDESC:אירועים ל Sea-Gal מועדון היאכטות הישראלי
BEGIN:VTIMEZONE
TZID:Asia/Jerusalem
BEGIN:DAYLIGHT
TZOFFSETFROM:+0200
TZOFFSETTO:+0300
TZNAME:IDT
DTSTART:20200327T000000
END:DAYLIGHT
BEGIN:STANDARD
TZOFFSETFROM:+0300
TZOFFSETTO:+0200
TZNAME:IST
DTSTART:20201024T230000
END:STANDARD
END:VTIMEZONE
BEGIN:VEVENT
DTSTART;TZID=Asia/Jerusalem:20201204T100000
DTEND;TZID=Asia/Jerusalem:20201204T110000
DTSTAMP:20210722T174719
CREATED:20201126T154128Z
LAST-MODIFIED:20201126T154337Z
UID:14018-1607076000-1607079600@www.sea-gal.co.il
SUMMARY:הפלגת מתעניינים/חיצוניים "איביזה"
DESCRIPTION:מועדון speedboat להשטה עצמית \nסירת מנוע מנוע מודל 2020 מדהימה ומפנקת מתאימה עד 12 מפליגים. \nההפלגה מיועדת לסקיפרים ו/או בעלי רישיון עוצמה א' \nולאנשים שמעוניינים להוציא רישיון.
URL:https://www.sea-gal.co.il/event/%d7%94%d7%a4%d7%9c%d7%92%d7%aa-%d7%9e%d7%aa%d7%a2%d7%a0%d7%99%d7%99%d7%a0%d7%99%d7%9d-%d7%97%d7%99%d7%a6%d7%95%d7%a0%d7%99%d7%99%d7%9d-%d7%90%d7%99%d7%91%d7%99%d7%96%d7%94/
CATEGORIES:הפלגות
ATTACH;FMTTYPE=image/jpeg:https://www.sea-gal.co.il/wp-content/uploads/2020/10/hhh_mb1.jpg
END:VEVENT
END:VCALENDAR