BEGIN:VCALENDAR
VERSION:2.0
PRODID:-//Sea-Gal מועדון היאכטות הישראלי - ECPv5.8.1//NONSGML v1.0//EN
CALSCALE:GREGORIAN
METHOD:PUBLISH
X-WR-CALNAME:Sea-Gal מועדון היאכטות הישראלי
X-ORIGINAL-URL:https://www.sea-gal.co.il
X-WR-CALDESC:אירועים ל Sea-Gal מועדון היאכטות הישראלי
BEGIN:VTIMEZONE
TZID:Asia/Jerusalem
BEGIN:DAYLIGHT
TZOFFSETFROM:+0200
TZOFFSETTO:+0300
TZNAME:IDT
DTSTART:20210326T000000
END:DAYLIGHT
BEGIN:STANDARD
TZOFFSETFROM:+0300
TZOFFSETTO:+0200
TZNAME:IST
DTSTART:20211030T230000
END:STANDARD
END:VTIMEZONE
BEGIN:VEVENT
DTSTART;TZID=Asia/Jerusalem:20210614T150000
DTEND;TZID=Asia/Jerusalem:20211003T170000
DTSTAMP:20210815T121120
CREATED:20200827T115507Z
LAST-MODIFIED:20210527T110107Z
UID:13272-1623682800-1633280400@www.sea-gal.co.il
SUMMARY:הסמכה ''אמילי" לסקיפרים (חברי מועדון מעל שנתיים)
DESCRIPTION:חפרפרת תחתונה (חצי שעה): \n\n\n\nהפעילות\nהערות\n\n\n\n\n\n\n\nמיקום חגורות הצלה\n\n\n\n\n\n\n\n\nמיקום ברז דלק ראשי\n\n\n\n\n\n\n\n\nמיקום ברז גז\n\n\n\n\n\n\n\n\nמיקום ברייקרים ראשיים  \n(של החשמל)\n\n\n\n\n\n\n\n\nמיקום פירוטכני\n\n\n\n\n\n\n\n\nמיקום תיק עזרה ראשונה\n\n\n\n\n\n\n\n\nמקומות אופציונאליים לדליפת מים\n\n\n\n\n  \nחפרפרת עליונה (רבע שעה): \n\n\n\nהפעילות\nהערות\n\n\n\n\n\n\n\nחפרפרת חבלים\n\n\n\n\n\n\n\n\nכיצד מרימים מפרש ראשי\n\n\n\n\n\n\n\n\nהדלקה וכיבוי מנוע\n\n\n\n\n  \nתרגול מעשי (שעה בים): \n\n\n\nהפעילות\nהערות\n\n\n\n\n\n\n\nכל תלמיד נכנס ויוצא מהמזח\n\n\n\n\n\n\n\n\nיציאה אחת לים הרמה כללית והורדה כללית (כולם יחד)\nבמידת האפשר מבחינת זמנים\n\n\n\n  \nכללי ברזל לכל הפלגה: \n  \n\nברגע ששומעים צפצוף מכבים מיד את המנוע.\n\n\nאין גרירה עם הסירות (אבוב/סאפ/אדם בים).\n\n\nאין הורדת אנשים באיבטו! (הורדת מפרשים מלאה\, כיבוי מנוע מלא ואז ניתן לרדת למים).\n\n\nמעבר על חפרפרת חבלים.\n\n\nפתיחת וסגירת מפרשים תקינה.\n\n  \nהפלגה נעימה!
URL:https://www.sea-gal.co.il/event/13272/
CATEGORIES:לחברים בלבד,הפלגות
ATTACH;FMTTYPE=image/jpeg:https://www.sea-gal.co.il/wp-content/uploads/2020/06/gallery-4.jpg
END:VEVENT
BEGIN:VEVENT
DTSTART;TZID=Asia/Jerusalem:20210818T160000
DTEND;TZID=Asia/Jerusalem:20210818T180000
DTSTAMP:20210815T121120
CREATED:20201126T110857Z
LAST-MODIFIED:20210728T124250Z
UID:13880-1629302400-1629309600@www.sea-gal.co.il
SUMMARY:הפלגת הסמכה ''גאיה'' לסקיפרים חברי מועדון
DESCRIPTION:חפרפרת תחתונה (חצי שעה): הפעילות הערות מיקום חגורות הצלה מיקום ברז דלק ראשי מיקום ברז גז מיקום ברייקרים ראשיים  (של החשמל) מיקום פירוטכני מיקום תיק עזרה ראשונה מקומות אופציונאליים לדליפת מים   חפרפרת עליונה (רבע שעה): הפעילות הערות חפרפרת חבלים כיצד מרימים מפרש ראשי הדלקה וכיבוי מנוע   תרגול מעשי (שעה בים): הפעילות הערות כל […] \n  \nחפרפרת תחתונה (חצי שעה): \n\n\n\nהפעילות\nהערות\n\n\n\nמיקום חגורות הצלה\n\n\n\n\nמיקום ברז דלק ראשי\n\n\n\n\nמיקום ברז גז\n\n\n\n\nמיקום ברייקרים ראשיים \n(של החשמל)\n\n\n\n\nמיקום פירוטכני\n\n\n\n\nמיקום תיק עזרה ראשונה\n\n\n\n\nמקומות אופציונאליים לדליפת מים\n\n\n\n\n  \nחפרפרת עליונה (רבע שעה): \n\n\n\nהפעילות\nהערות\n\n\n\nחפרפרת חבלים\n\n\n\n\nכיצד מרימים מפרש ראשי\n\n\n\n\nהדלקה וכיבוי מנוע\n\n\n\n\n  \nתרגול מעשי (שעה בים): \n\n\n\nהפעילות\nהערות\n\n\n\nכל תלמיד נכנס ויוצא מהמזח\n\n\n\n\nיציאה אחת לים הרמה כללית והורדה כללית (כולם יחד)\nבמידת האפשר מבחינת זמנים\n\n\n\n  \nכללי ברזל לכל הפלגה: \n  \n\nברגע ששומעים צפצוף מכבים מיד את המנוע.\n\n\nאין גרירה עם הסירות (אבוב/סאפ/אדם בים).\n\n\nאין הורדת אנשים באיבטו! (הורדת מפרשים מלאה\, כיבוי מנוע מלא ואז ניתן לרדת למים).\n\n\nמעבר על חפרפרת חבלים.\n\n\nפתיחת וסגירת מפרשים תקינה.\n\n  \nהפלגה נעימה!
URL:https://www.sea-gal.co.il/event/%d7%94%d7%a4%d7%9c%d7%92%d7%aa-%d7%94%d7%a1%d7%9e%d7%9b%d7%94-%d7%92%d7%90%d7%99%d7%94-%d7%9c%d7%a1%d7%a7%d7%99%d7%a4%d7%a8%d7%99%d7%9d/
CATEGORIES:לחברים בלבד,הפלגות
ATTACH;FMTTYPE=image/jpeg:https://www.sea-gal.co.il/wp-content/uploads/2020/11/תמונה-אורלי-scaled.jpg
END:VEVENT
BEGIN:VEVENT
DTSTART;TZID=Asia/Jerusalem:20210818T180000
DTEND;TZID=Asia/Jerusalem:20210818T200000
DTSTAMP:20210815T121120
CREATED:20201126T105042Z
LAST-MODIFIED:20210728T124438Z
UID:13866-1629309600-1629316800@www.sea-gal.co.il
SUMMARY:הפלגת הסמכה ''שרון'' לסקיפרים
DESCRIPTION:חפרפרת תחתונה (חצי שעה): הפעילות הערות מיקום חגורות הצלה מיקום ברז דלק ראשי מיקום ברז גז מיקום ברייקרים ראשיים  (של החשמל) מיקום פירוטכני מיקום תיק עזרה ראשונה מקומות אופציונאליים לדליפת מים   חפרפרת עליונה (רבע שעה): הפעילות הערות חפרפרת חבלים כיצד מרימים מפרש ראשי הדלקה וכיבוי מנוע   תרגול מעשי (שעה בים): הפעילות הערות כל […] \n  \nחפרפרת תחתונה (חצי שעה): \n\n\n\nהפעילות\nהערות\n\n\n\nמיקום חגורות הצלה\n\n\n\n\nמיקום ברז דלק ראשי\n\n\n\n\nמיקום ברז גז\n\n\n\n\nמיקום ברייקרים ראשיים \n(של החשמל)\n\n\n\n\nמיקום פירוטכני\n\n\n\n\nמיקום תיק עזרה ראשונה\n\n\n\n\nמקומות אופציונאליים לדליפת מים\n\n\n\n\n  \nחפרפרת עליונה (רבע שעה): \n\n\n\nהפעילות\nהערות\n\n\n\nחפרפרת חבלים\n\n\n\n\nכיצד מרימים מפרש ראשי\n\n\n\n\nהדלקה וכיבוי מנוע\n\n\n\n\n  \nתרגול מעשי (שעה בים): \n\n\n\nהפעילות\nהערות\n\n\n\nכל תלמיד נכנס ויוצא מהמזח\n\n\n\n\nיציאה אחת לים הרמה כללית והורדה כללית (כולם יחד)\nבמידת האפשר מבחינת זמנים\n\n\n\n  \nכללי ברזל לכל הפלגה: \n  \n\nברגע ששומעים צפצוף מכבים מיד את המנוע.\n\n\nאין גרירה עם הסירות (אבוב/סאפ/אדם בים).\n\n\nאין הורדת אנשים באיבטו! (הורדת מפרשים מלאה\, כיבוי מנוע מלא ואז ניתן לרדת למים).\n\n\nמעבר על חפרפרת חבלים.\n\n\nפתיחת וסגירת מפרשים תקינה.\n\n  \nהפלגה נעימה!
URL:https://www.sea-gal.co.il/event/%d7%94%d7%a4%d7%9c%d7%92%d7%aa-%d7%94%d7%a1%d7%9e%d7%9b%d7%94-%d7%a9%d7%a8%d7%95%d7%9f-%d7%9c%d7%a1%d7%a7%d7%99%d7%a4%d7%a8%d7%99%d7%9d-2/
CATEGORIES:העשרה,לחברים בלבד,הפלגות
ATTACH;FMTTYPE=image/jpeg:https://www.sea-gal.co.il/wp-content/uploads/2020/11/תמונה-אורלי-scaled.jpg
END:VEVENT
END:VCALENDAR