BEGIN:VCALENDAR
VERSION:2.0
PRODID:-//Sea-Gal מועדון היאכטות הישראלי - ECPv5.8.2//NONSGML v1.0//EN
CALSCALE:GREGORIAN
METHOD:PUBLISH
X-WR-CALNAME:Sea-Gal מועדון היאכטות הישראלי
X-ORIGINAL-URL:https://www.sea-gal.co.il
X-WR-CALDESC:אירועים ל Sea-Gal מועדון היאכטות הישראלי
BEGIN:VTIMEZONE
TZID:Asia/Jerusalem
BEGIN:DAYLIGHT
TZOFFSETFROM:+0200
TZOFFSETTO:+0300
TZNAME:IDT
DTSTART:20200327T000000
END:DAYLIGHT
BEGIN:STANDARD
TZOFFSETFROM:+0300
TZOFFSETTO:+0200
TZNAME:IST
DTSTART:20201024T230000
END:STANDARD
END:VTIMEZONE
BEGIN:VEVENT
DTSTART;TZID=Asia/Jerusalem:20200913T180000
DTEND;TZID=Asia/Jerusalem:20200913T200000
DTSTAMP:20210818T104949
CREATED:20200715T075149Z
LAST-MODIFIED:20200901T082203Z
UID:12897-1600020000-1600027200@www.sea-gal.co.il
SUMMARY:הפלגת קטאמרן לכבוד השנה החדשה - GIRLS POWER CLUB
DESCRIPTION:מועדון GIRLS POWER של Sea-Gal הוא המועדון היחיד בישראל המיועד לנשים בלבד (סקיפריות\, תלמידות\, בת זוג של חברי מועדון וכו') שמעל לכל אוהבות את הים. הרעיון מאחורי המועדון הוא השתייכות לקבוצת איכות של נשים בעלות אהבה לים\, עם רצון ללמוד ולהתמקצע בעולם השייט וכמובן להביא את ההעצמה הנשית לקדמת הבמה. \nבמסגרת המועדון יהנו החברות בו מהפלגות מקצועיות לשיפור יכולות השייט\, הפלגות FUN וגיבוש להעצמה נשית\, הרצאות תוכן ופעילויות העשרה מגוונות. \nצוות ההדרכה \nקירה משינסקי \nסקיפרית למעלה מ-7 שנים\, בוגרת קורס YachtMaster של שיא גל. בעלת ניסיון רב בשייט תחרותי בארץ ובעולם (רוסיה\, קפריסין\, יון ועוד). צברה אלפי שעות הפלגה בינ"ל ברחבי הים התיכון. מדריכת שייט בכל המקצועות העיוניים בשיא גל. \nאורלי מרסיק \nסקיפרית כ-5 שנים\, בעלת רישיון משיט בינ"ל (משיט 60) ובשלבי סיום של קבלת משיט 40 (סקיפר מסחרי). אוהבת ים מגיל צעיר והתחנכה בצופי ים בכנרת. צברה מאות שעות הפלגה בינ"ל ברחבי הים התיכון. עובדת במועדון היאכטות של שיא-גל למעלה משנה. \nלהלן רשימת הפעילויות המתוכננות במועדון \n✔ מפרשנות מתקדמת (הפלגה מקצועית) \n✔ הפלגה במזג אויר סוער (הפלגה מקצועית) \n✔ הפלגת OVERNIGHT לאשדוד (הפלגה מקצועית) \n✔ הפלגת FUN להיכרות קו החוף \n✔ סדנת צילום על יאכטה \n✔ מגוון הרצאות תוכן להעצמה נשית במהלך ההפלגה
URL:https://www.sea-gal.co.il/event/girls-power-club/
CATEGORIES:מקודמים בדף הבית,העשרה,לחברים בלבד
ATTACH;FMTTYPE=image/jpeg:https://www.sea-gal.co.il/wp-content/uploads/2020/07/girl-club.jpg
END:VEVENT
END:VCALENDAR