BEGIN:VCALENDAR
VERSION:2.0
PRODID:-//Sea-Gal מועדון היאכטות הישראלי - ECPv5.9.1//NONSGML v1.0//EN
CALSCALE:GREGORIAN
METHOD:PUBLISH
X-WR-CALNAME:Sea-Gal מועדון היאכטות הישראלי
X-ORIGINAL-URL:https://www.sea-gal.co.il
X-WR-CALDESC:אירועים ל Sea-Gal מועדון היאכטות הישראלי
BEGIN:VTIMEZONE
TZID:Asia/Jerusalem
BEGIN:DAYLIGHT
TZOFFSETFROM:+0200
TZOFFSETTO:+0300
TZNAME:IDT
DTSTART:20210326T000000
END:DAYLIGHT
BEGIN:STANDARD
TZOFFSETFROM:+0300
TZOFFSETTO:+0200
TZNAME:IST
DTSTART:20211030T230000
END:STANDARD
END:VTIMEZONE
BEGIN:VEVENT
DTSTART;TZID=Asia/Jerusalem:20210614T150000
DTEND;TZID=Asia/Jerusalem:20211003T170000
DTSTAMP:20210923T132957
CREATED:20200827T115507Z
LAST-MODIFIED:20210527T110107Z
UID:13272-1623682800-1633280400@www.sea-gal.co.il
SUMMARY:הסמכה ''אמילי" לסקיפרים (חברי מועדון מעל שנתיים)
DESCRIPTION:חפרפרת תחתונה (חצי שעה): \n\n\n\nהפעילות\nהערות\n\n\n\n\n\n\n\nמיקום חגורות הצלה\n\n\n\n\n\n\n\n\nמיקום ברז דלק ראשי\n\n\n\n\n\n\n\n\nמיקום ברז גז\n\n\n\n\n\n\n\n\nמיקום ברייקרים ראשיים  \n(של החשמל)\n\n\n\n\n\n\n\n\nמיקום פירוטכני\n\n\n\n\n\n\n\n\nמיקום תיק עזרה ראשונה\n\n\n\n\n\n\n\n\nמקומות אופציונאליים לדליפת מים\n\n\n\n\n  \nחפרפרת עליונה (רבע שעה): \n\n\n\nהפעילות\nהערות\n\n\n\n\n\n\n\nחפרפרת חבלים\n\n\n\n\n\n\n\n\nכיצד מרימים מפרש ראשי\n\n\n\n\n\n\n\n\nהדלקה וכיבוי מנוע\n\n\n\n\n  \nתרגול מעשי (שעה בים): \n\n\n\nהפעילות\nהערות\n\n\n\n\n\n\n\nכל תלמיד נכנס ויוצא מהמזח\n\n\n\n\n\n\n\n\nיציאה אחת לים הרמה כללית והורדה כללית (כולם יחד)\nבמידת האפשר מבחינת זמנים\n\n\n\n  \nכללי ברזל לכל הפלגה: \n  \n\nברגע ששומעים צפצוף מכבים מיד את המנוע.\n\n\nאין גרירה עם הסירות (אבוב/סאפ/אדם בים).\n\n\nאין הורדת אנשים באיבטו! (הורדת מפרשים מלאה\, כיבוי מנוע מלא ואז ניתן לרדת למים).\n\n\nמעבר על חפרפרת חבלים.\n\n\nפתיחת וסגירת מפרשים תקינה.\n\n  \nהפלגה נעימה!
URL:https://www.sea-gal.co.il/event/13272/
CATEGORIES:לחברים בלבד,הפלגות
ATTACH;FMTTYPE=image/jpeg:https://www.sea-gal.co.il/wp-content/uploads/2020/06/gallery-4.jpg
END:VEVENT
BEGIN:VEVENT
DTSTART;TZID=Asia/Jerusalem:20210902T110000
DTEND;TZID=Asia/Jerusalem:20210902T130000
DTSTAMP:20210923T132957
CREATED:20210826T100745Z
LAST-MODIFIED:20210826T102139Z
UID:16524-1630580400-1630587600@www.sea-gal.co.il
SUMMARY:הסמכת ''איביזה'' לחברי מועדון סירה מהירה
DESCRIPTION:סילבוס ההסמכה: \n\nהכרת הסירה\nתיפעול הסירה\nגישות דופן ימין ושמאל\nגישות חרטום ירכתיים\nהורדת עוגן\nהסעת אורחים על אבוב\nהסעת אורחים על ווייק בורד
URL:https://www.sea-gal.co.il/event/%d7%94%d7%a1%d7%9e%d7%9b%d7%94-%d7%90%d7%99%d7%91%d7%99%d7%96%d7%94-%d7%9c%d7%97%d7%91%d7%a8%d7%99-%d7%9e%d7%95%d7%a2%d7%93%d7%95%d7%9f-%d7%a1%d7%99%d7%a8%d7%94-%d7%9e%d7%94%d7%99%d7%a8%d7%94/
CATEGORIES:מקודמים בדף הבית,לחברים בלבד,הפלגות
ATTACH;FMTTYPE=image/jpeg:https://www.sea-gal.co.il/wp-content/uploads/2020/10/hhh.jpg
END:VEVENT
BEGIN:VEVENT
DTSTART;TZID=Asia/Jerusalem:20210902T110000
DTEND;TZID=Asia/Jerusalem:20210902T130000
DTSTAMP:20210923T132957
CREATED:20210827T064605Z
LAST-MODIFIED:20210827T064606Z
UID:16539-1630580400-1630587600@www.sea-gal.co.il
SUMMARY:הפלגת קורס מכונה לתלמידים בלבד
DESCRIPTION:חפרפרת כללית של פנים הסירה :\n\n\nמיכלי מים\nמד מהירות ומד עומק\nחיבורי קיל\nאגזוז\nציר מדחף\nגיר\nמשאבת בילג'\nכל הסיקוקים שיוצאים לים\nמשאבות מים מתוקים\nמיכל דלק\nמנוע כללי\n\n\nפתיחת מנוע והסבר מערכות\nהסבר כמויות משאבות (הצפה)\n\n  \n 
URL:https://www.sea-gal.co.il/event/%d7%94%d7%a4%d7%9c%d7%92%d7%aa-%d7%a7%d7%95%d7%a8%d7%a1-%d7%9e%d7%9b%d7%95%d7%a0%d7%94-%d7%9c%d7%aa%d7%9c%d7%9e%d7%99%d7%93%d7%99%d7%9d-%d7%91%d7%9c%d7%91%d7%93-36/
CATEGORIES:הפלגות
ATTACH;FMTTYPE=image/jpeg:https://www.sea-gal.co.il/wp-content/uploads/2020/11/תמונה-אורלי-scaled.jpg
END:VEVENT
BEGIN:VEVENT
DTSTART;TZID=Asia/Jerusalem:20210902T130000
DTEND;TZID=Asia/Jerusalem:20210902T150000
DTSTAMP:20210923T132957
CREATED:20210827T064744Z
LAST-MODIFIED:20210827T064745Z
UID:16542-1630587600-1630594800@www.sea-gal.co.il
SUMMARY:הפלגת קורס ניווט מכשירים לתלמידים בלבד
DESCRIPTION:הסבר על כל המכשירים\n\n\nנווטקס\nGPS – צארט פלוטר\nפאנל חשמל\nלהראות מד עומק ומהירות בקרקעית היאכטה\n\n\nיציאה לים\n\n\nהגה אוטומט כנגד צארט פלוטר (מלמטה מישהו מכוון מלעלה נוהג)\nמד רוח/כיוון רוח\nעומק\nמהירות\n\n 
URL:https://www.sea-gal.co.il/event/%d7%94%d7%a4%d7%9c%d7%92%d7%aa-%d7%a7%d7%95%d7%a8%d7%a1-%d7%a0%d7%99%d7%95%d7%95%d7%98-%d7%9e%d7%9b%d7%a9%d7%99%d7%a8%d7%99%d7%9d-%d7%9c%d7%aa%d7%9c%d7%9e%d7%99%d7%93%d7%99%d7%9d-%d7%91%d7%9c%d7%91-27/
CATEGORIES:הפלגות
ATTACH;FMTTYPE=image/jpeg:https://www.sea-gal.co.il/wp-content/uploads/2020/11/6e8aa82c-eac7-4031-aea3-61df79d0db97.jpg
END:VEVENT
BEGIN:VEVENT
DTSTART;TZID=Asia/Jerusalem:20210902T160000
DTEND;TZID=Asia/Jerusalem:20210902T180000
DTSTAMP:20210923T132957
CREATED:20200830T120515Z
LAST-MODIFIED:20210826T075939Z
UID:13436-1630598400-1630605600@www.sea-gal.co.il
SUMMARY:הסמכה ''טל" לסקיפרים חברי מועדון
DESCRIPTION:חפרפרת תחתונה (חצי שעה): \n\n\n\nהפעילות\nהערות\n\n\n\n\n\n\n\nמיקום חגורות הצלה\n\n\n\n\n\n\n\n\nמיקום ברז דלק ראשי\n\n\n\n\n\n\n\n\nמיקום ברז גז\n\n\n\n\n\n\n\n\nמיקום ברייקרים ראשיים  \n(של החשמל)\n\n\n\n\n\n\n\n\nמיקום פירוטכני\n\n\n\n\n\n\n\n\nמיקום תיק עזרה ראשונה\n\n\n\n\n\n\n\n\nמקומות אופציונאליים לדליפת מים\n\n\n\n\n  \nחפרפרת עליונה (רבע שעה): \n\n\n\nהפעילות\nהערות\n\n\n\n\n\n\n\nחפרפרת חבלים\n\n\n\n\n\n\n\n\nכיצד מרימים מפרש ראשי\n\n\n\n\n\n\n\n\nהדלקה וכיבוי מנוע\n\n\n\n\n  \nתרגול מעשי (שעה בים): \n\n\n\nהפעילות\nהערות\n\n\n\n\n\n\n\nכל תלמיד נכנס ויוצא מהמזח\n\n\n\n\n\n\n\n\nיציאה אחת לים הרמה כללית והורדה כללית (כולם יחד)\nבמידת האפשר מבחינת זמנים\n\n\n\n  \nכללי ברזל לכל הפלגה: \n  \n\nברגע ששומעים צפצוף מכבים מיד את המנוע.\n\n\nאין גרירה עם הסירות (אבוב/סאפ/אדם בים).\n\n\nאין הורדת אנשים באיבטו! (הורדת מפרשים מלאה\, כיבוי מנוע מלא ואז ניתן לרדת למים).\n\n\nמעבר על חפרפרת חבלים.\n\n\nפתיחת וסגירת מפרשים תקינה.\n\n  \nהפלגה נעימה!
URL:https://www.sea-gal.co.il/event/%d7%94%d7%a1%d7%9e%d7%9b%d7%94-%d7%90%d7%92%d7%a4%d7%99/
CATEGORIES:לחברים בלבד,הפלגות
ATTACH;FMTTYPE=image/jpeg:https://www.sea-gal.co.il/wp-content/uploads/2020/06/gallery-6.jpg
END:VEVENT
BEGIN:VEVENT
DTSTART;TZID=Asia/Jerusalem:20210902T210000
DTEND;TZID=Asia/Jerusalem:20210902T230000
DTSTAMP:20210923T132957
CREATED:20210826T095457Z
LAST-MODIFIED:20210826T095457Z
UID:16522-1630616400-1630623600@www.sea-gal.co.il
SUMMARY:הפלגה מקצועית לסקיפרים חברי מועדון ''ניווט מכשירים לילה''
DESCRIPTION:בהפלגה זו נלמד לעבוד עם צ'ארט פלוטר \nאפליקציות ניווט \nעבודה עם ג'י פי אס \nזיהוי מגדלורים \nעד 8 משתתפים \nסקיפר: משה כהן
URL:https://www.sea-gal.co.il/event/%d7%94%d7%a4%d7%9c%d7%92%d7%94-%d7%9e%d7%a7%d7%a6%d7%95%d7%a2%d7%99%d7%aa-%d7%9c%d7%a1%d7%a7%d7%99%d7%a4%d7%a8%d7%99%d7%9d-%d7%97%d7%91%d7%a8%d7%99-%d7%9e%d7%95%d7%a2%d7%93%d7%95%d7%9f-%d7%a0/
CATEGORIES:מקודמים בדף הבית,לחברים בלבד,הפלגות
ATTACH;FMTTYPE=image/jpeg:https://www.sea-gal.co.il/wp-content/uploads/2020/12/תמונה-2.jpg
END:VEVENT
END:VCALENDAR