BEGIN:VCALENDAR
VERSION:2.0
PRODID:-//Sea-Gal מועדון היאכטות הישראלי - ECPv5.9.1//NONSGML v1.0//EN
CALSCALE:GREGORIAN
METHOD:PUBLISH
X-WR-CALNAME:Sea-Gal מועדון היאכטות הישראלי
X-ORIGINAL-URL:https://www.sea-gal.co.il
X-WR-CALDESC:אירועים ל Sea-Gal מועדון היאכטות הישראלי
BEGIN:VTIMEZONE
TZID:Asia/Jerusalem
BEGIN:DAYLIGHT
TZOFFSETFROM:+0200
TZOFFSETTO:+0300
TZNAME:IDT
DTSTART:20210326T000000
END:DAYLIGHT
BEGIN:STANDARD
TZOFFSETFROM:+0300
TZOFFSETTO:+0200
TZNAME:IST
DTSTART:20211030T230000
END:STANDARD
END:VTIMEZONE
BEGIN:VEVENT
DTSTART;TZID=Asia/Jerusalem:20210614T150000
DTEND;TZID=Asia/Jerusalem:20211003T170000
DTSTAMP:20210923T133207
CREATED:20200827T115507Z
LAST-MODIFIED:20210527T110107Z
UID:13272-1623682800-1633280400@www.sea-gal.co.il
SUMMARY:הסמכה ''אמילי" לסקיפרים (חברי מועדון מעל שנתיים)
DESCRIPTION:חפרפרת תחתונה (חצי שעה): \n\n\n\nהפעילות\nהערות\n\n\n\n\n\n\n\nמיקום חגורות הצלה\n\n\n\n\n\n\n\n\nמיקום ברז דלק ראשי\n\n\n\n\n\n\n\n\nמיקום ברז גז\n\n\n\n\n\n\n\n\nמיקום ברייקרים ראשיים  \n(של החשמל)\n\n\n\n\n\n\n\n\nמיקום פירוטכני\n\n\n\n\n\n\n\n\nמיקום תיק עזרה ראשונה\n\n\n\n\n\n\n\n\nמקומות אופציונאליים לדליפת מים\n\n\n\n\n  \nחפרפרת עליונה (רבע שעה): \n\n\n\nהפעילות\nהערות\n\n\n\n\n\n\n\nחפרפרת חבלים\n\n\n\n\n\n\n\n\nכיצד מרימים מפרש ראשי\n\n\n\n\n\n\n\n\nהדלקה וכיבוי מנוע\n\n\n\n\n  \nתרגול מעשי (שעה בים): \n\n\n\nהפעילות\nהערות\n\n\n\n\n\n\n\nכל תלמיד נכנס ויוצא מהמזח\n\n\n\n\n\n\n\n\nיציאה אחת לים הרמה כללית והורדה כללית (כולם יחד)\nבמידת האפשר מבחינת זמנים\n\n\n\n  \nכללי ברזל לכל הפלגה: \n  \n\nברגע ששומעים צפצוף מכבים מיד את המנוע.\n\n\nאין גרירה עם הסירות (אבוב/סאפ/אדם בים).\n\n\nאין הורדת אנשים באיבטו! (הורדת מפרשים מלאה\, כיבוי מנוע מלא ואז ניתן לרדת למים).\n\n\nמעבר על חפרפרת חבלים.\n\n\nפתיחת וסגירת מפרשים תקינה.\n\n  \nהפלגה נעימה!
URL:https://www.sea-gal.co.il/event/13272/
CATEGORIES:לחברים בלבד,הפלגות
ATTACH;FMTTYPE=image/jpeg:https://www.sea-gal.co.il/wp-content/uploads/2020/06/gallery-4.jpg
END:VEVENT
BEGIN:VEVENT
DTSTART;TZID=Asia/Jerusalem:20210917T080000
DTEND;TZID=Asia/Jerusalem:20210917T110000
DTSTAMP:20210923T133207
CREATED:20200827T130045Z
LAST-MODIFIED:20210826T091748Z
UID:13342-1631865600-1631876400@www.sea-gal.co.il
SUMMARY:מועדון מקצועי לתלמידים חברי מועדון "אשדוד"
DESCRIPTION:המועדון המקצועי של שיא-גל יתמקד בקידום התלמיד לרמת סקיפר מקצועי\, כולל ניהול יאכטה והפלגה נכונה עם מפרשים. \nעל איזה סירה: סירות מעשי \nמספר משתתפים מקסימלי:5 \nזמן הפלגה: 3 שעות \nההפלגות יתמקדו בנושאים הבאים: \n  \n\nהכרת היאכטה – היכן נמצא כל מכשיר וכיצד הוא עובד\, משאבת שיפוליים\, מצברים\, מיכלי מים ודלק\, משאבת מים מתוקים\, חבלים ושימוש בחבלים\, הגה ומצערת הגז.\nמנוע – הכרת המנוע\, מערכת מים מתוקים\, מערכת מים מלוחים\, מערכת דלק\, מערכת שמן\, טיפולים שוטפים וטיפול בתקלות.\nתמרוני מנוע – שימוש בהסחה\, יחס לרוח\, יציאה וכניסה לרציף הבית\, גישות חרטום להורדת נוסע\, גישות ירכתיים (ים תיכונית)\, וגישות דופן לרציף התדלוק\nמפרשנות בסיסית – הכרת המפרשים והכוחות הפיזיקליים הפועלים עליהם\, הרמת מפרשים\, כיוון נכון של מפרשים\, סיבוב ומהפך\nמפרשנות מתקדמת – אדם בים\, הרמת מפרשים בלי מנוע\, צמצום מפרשים.\nמקרים ותגובות – קריעת וונטה\, חבל במדחף\, הצפה\, הכנה לסערה\, הפלגה בסערה\, שריפה ועוד…\nעגינה– מציאת נקודת עגינה\, ביצוע נוהל עגינה\, וידוא עגינה\, הרמת עוגן.\nניווט חופי – עבודה עם מצפן\, עבודה עם ג'י.פי.אס\, מציאת פיקס במספר שיטות\, תיקון תכוונים ועבודה על מפה\nקשרים – קשר מוט\, טבעת\, אורגים\, הצלה\, שמינית\, סטופר\, זקף\, ברווז\, עוגן\nניהול יאכטה – הוראות בטיחות\, מתן פקודות וחוקי דרך.
URL:https://www.sea-gal.co.il/event/%d7%9e%d7%95%d7%a2%d7%93%d7%95%d7%9f-%d7%9e%d7%a7%d7%a6%d7%95%d7%a2%d7%99-%d7%9c%d7%aa%d7%9c%d7%9e%d7%99%d7%93%d7%99%d7%9d-%d7%97%d7%91%d7%a8%d7%99-%d7%9e%d7%95%d7%a2%d7%93%d7%95%d7%9f-54/
CATEGORIES:לחברים בלבד,הפלגות
ATTACH;FMTTYPE=image/jpeg:https://www.sea-gal.co.il/wp-content/uploads/2020/11/קירה-מועדון-תמונה.jpg
END:VEVENT
BEGIN:VEVENT
DTSTART;TZID=Asia/Jerusalem:20210917T080000
DTEND;TZID=Asia/Jerusalem:20210917T110000
DTSTAMP:20210923T133207
CREATED:20201126T113150Z
LAST-MODIFIED:20210826T085757Z
UID:13909-1631865600-1631876400@www.sea-gal.co.il
SUMMARY:מועדון מקצועי לתלמידים חברי מועדון
DESCRIPTION:המועדון המקצועי של שיא-גל יתמקד בקידום התלמיד לרמת סקיפר מקצועי\, כולל ניהול יאכטה והפלגה נכונה עם מפרשים. \nעל איזה סירה: סירות מעשי \nמספר משתתפים מקסימלי:5 \nזמן הפלגה: 3 שעות \nההפלגות יתמקדו בנושאים הבאים: \n  \n\nהכרת היאכטה – היכן נמצא כל מכשיר וכיצד הוא עובד\, משאבת שיפוליים\, מצברים\, מיכלי מים ודלק\, משאבת מים מתוקים\, חבלים ושימוש בחבלים\, הגה ומצערת הגז.\nמנוע – הכרת המנוע\, מערכת מים מתוקים\, מערכת מים מלוחים\, מערכת דלק\, מערכת שמן\, טיפולים שוטפים וטיפול בתקלות.\nתמרוני מנוע – שימוש בהסחה\, יחס לרוח\, יציאה וכניסה לרציף הבית\, גישות חרטום להורדת נוסע\, גישות ירכתיים (ים תיכונית)\, וגישות דופן לרציף התדלוק\nמפרשנות בסיסית – הכרת המפרשים והכוחות הפיזיקליים הפועלים עליהם\, הרמת מפרשים\, כיוון נכון של מפרשים\, סיבוב ומהפך\nמפרשנות מתקדמת – אדם בים\, הרמת מפרשים בלי מנוע\, צמצום מפרשים.\nמקרים ותגובות – קריעת וונטה\, חבל במדחף\, הצפה\, הכנה לסערה\, הפלגה בסערה\, שריפה ועוד…\nעגינה– מציאת נקודת עגינה\, ביצוע נוהל עגינה\, וידוא עגינה\, הרמת עוגן.\nניווט חופי – עבודה עם מצפן\, עבודה עם ג'י.פי.אס\, מציאת פיקס במספר שיטות\, תיקון תכוונים ועבודה על מפה\nקשרים – קשר מוט\, טבעת\, אורגים\, הצלה\, שמינית\, סטופר\, זקף\, ברווז\, עוגן\nניהול יאכטה – הוראות בטיחות\, מתן פקודות וחוקי דרך.
URL:https://www.sea-gal.co.il/event/%d7%9e%d7%95%d7%a2%d7%93%d7%95%d7%9f-%d7%9e%d7%a7%d7%a6%d7%95%d7%a2%d7%99-%d7%9c%d7%aa%d7%9c%d7%9e%d7%99%d7%93%d7%99%d7%9d-%d7%97%d7%91%d7%a8%d7%99-%d7%9e%d7%95%d7%a2%d7%93%d7%95%d7%9f-62/
CATEGORIES:לחברים בלבד,הפלגות
ATTACH;FMTTYPE=image/jpeg:https://www.sea-gal.co.il/wp-content/uploads/2020/11/IMG-2549-1.jpg
END:VEVENT
BEGIN:VEVENT
DTSTART;TZID=Asia/Jerusalem:20210917T110000
DTEND;TZID=Asia/Jerusalem:20210917T140000
DTSTAMP:20210923T133207
CREATED:20201126T113004Z
LAST-MODIFIED:20210826T085850Z
UID:13906-1631876400-1631887200@www.sea-gal.co.il
SUMMARY:מועדון מקצועי לתלמידים חברי מועדון
DESCRIPTION:המועדון המקצועי של שיא-גל יתמקד בקידום התלמיד לרמת סקיפר מקצועי\, כולל ניהול יאכטה והפלגה נכונה עם מפרשים. \nעל איזה סירה: סירות מעשי \nמספר משתתפים מקסימלי:5 \nזמן הפלגה: 3 שעות \nההפלגות יתמקדו בנושאים הבאים: \n  \n\nהכרת היאכטה – היכן נמצא כל מכשיר וכיצד הוא עובד\, משאבת שיפוליים\, מצברים\, מיכלי מים ודלק\, משאבת מים מתוקים\, חבלים ושימוש בחבלים\, הגה ומצערת הגז.\nמנוע – הכרת המנוע\, מערכת מים מתוקים\, מערכת מים מלוחים\, מערכת דלק\, מערכת שמן\, טיפולים שוטפים וטיפול בתקלות.\nתמרוני מנוע – שימוש בהסחה\, יחס לרוח\, יציאה וכניסה לרציף הבית\, גישות חרטום להורדת נוסע\, גישות ירכתיים (ים תיכונית)\, וגישות דופן לרציף התדלוק\nמפרשנות בסיסית – הכרת המפרשים והכוחות הפיזיקליים הפועלים עליהם\, הרמת מפרשים\, כיוון נכון של מפרשים\, סיבוב ומהפך\nמפרשנות מתקדמת – אדם בים\, הרמת מפרשים בלי מנוע\, צמצום מפרשים.\nמקרים ותגובות – קריעת וונטה\, חבל במדחף\, הצפה\, הכנה לסערה\, הפלגה בסערה\, שריפה ועוד…\nעגינה– מציאת נקודת עגינה\, ביצוע נוהל עגינה\, וידוא עגינה\, הרמת עוגן.\nניווט חופי – עבודה עם מצפן\, עבודה עם ג'י.פי.אס\, מציאת פיקס במספר שיטות\, תיקון תכוונים ועבודה על מפה\nקשרים – קשר מוט\, טבעת\, אורגים\, הצלה\, שמינית\, סטופר\, זקף\, ברווז\, עוגן\nניהול יאכטה – הוראות בטיחות\, מתן פקודות וחוקי דרך.
URL:https://www.sea-gal.co.il/event/%d7%9e%d7%95%d7%a2%d7%93%d7%95%d7%9f-%d7%9e%d7%a7%d7%a6%d7%95%d7%a2%d7%99-%d7%9c%d7%aa%d7%9c%d7%9e%d7%99%d7%93%d7%99%d7%9d-%d7%97%d7%91%d7%a8%d7%99-%d7%9e%d7%95%d7%a2%d7%93%d7%95%d7%9f-61/
CATEGORIES:לחברים בלבד,הפלגות
ATTACH;FMTTYPE=image/jpeg:https://www.sea-gal.co.il/wp-content/uploads/2020/11/IMG-2549-1.jpg
END:VEVENT
BEGIN:VEVENT
DTSTART;TZID=Asia/Jerusalem:20210917T120000
DTEND;TZID=Asia/Jerusalem:20210917T140000
DTSTAMP:20210923T133207
CREATED:20210827T070819Z
LAST-MODIFIED:20210827T070820Z
UID:16572-1631880000-1631887200@www.sea-gal.co.il
SUMMARY:הפלגת קורס ניווט מכשירים לתלמידים בלבד
DESCRIPTION:הסבר על כל המכשירים\n\n\nנווטקס\nGPS – צארט פלוטר\nפאנל חשמל\nלהראות מד עומק ומהירות בקרקעית היאכטה\n\n\nיציאה לים\n\n\nהגה אוטומט כנגד צארט פלוטר (מלמטה מישהו מכוון מלעלה נוהג)\nמד רוח/כיוון רוח\nעומק\nמהירות\n\n 
URL:https://www.sea-gal.co.il/event/%d7%94%d7%a4%d7%9c%d7%92%d7%aa-%d7%a7%d7%95%d7%a8%d7%a1-%d7%a0%d7%99%d7%95%d7%95%d7%98-%d7%9e%d7%9b%d7%a9%d7%99%d7%a8%d7%99%d7%9d-%d7%9c%d7%aa%d7%9c%d7%9e%d7%99%d7%93%d7%99%d7%9d-%d7%91%d7%9c%d7%91-30/
CATEGORIES:הפלגות
ATTACH;FMTTYPE=image/jpeg:https://www.sea-gal.co.il/wp-content/uploads/2020/06/gallery-4.jpg
END:VEVENT
BEGIN:VEVENT
DTSTART;TZID=Asia/Jerusalem:20210917T140000
DTEND;TZID=Asia/Jerusalem:20210917T160000
DTSTAMP:20210923T133207
CREATED:20210827T070942Z
LAST-MODIFIED:20210827T070942Z
UID:16575-1631887200-1631894400@www.sea-gal.co.il
SUMMARY:הפלגת קורס מכונה לתלמידים בלבד
DESCRIPTION:חפרפרת כללית של פנים הסירה :\n\n\nמיכלי מים\nמד מהירות ומד עומק\nחיבורי קיל\nאגזוז\nציר מדחף\nגיר\nמשאבת בילג'\nכל הסיקוקים שיוצאים לים\nמשאבות מים מתוקים\nמיכל דלק\nמנוע כללי\n\n\nפתיחת מנוע והסבר מערכות\nהסבר כמויות משאבות (הצפה)\n\n  \n 
URL:https://www.sea-gal.co.il/event/%d7%94%d7%a4%d7%9c%d7%92%d7%aa-%d7%a7%d7%95%d7%a8%d7%a1-%d7%9e%d7%9b%d7%95%d7%a0%d7%94-%d7%9c%d7%aa%d7%9c%d7%9e%d7%99%d7%93%d7%99%d7%9d-%d7%91%d7%9c%d7%91%d7%93-39/
CATEGORIES:הפלגות
ATTACH;FMTTYPE=image/jpeg:https://www.sea-gal.co.il/wp-content/uploads/2020/11/6e8aa82c-eac7-4031-aea3-61df79d0db97.jpg
END:VEVENT
END:VCALENDAR