BEGIN:VCALENDAR
VERSION:2.0
PRODID:-//Sea-Gal מועדון היאכטות הישראלי - ECPv5.9.1//NONSGML v1.0//EN
CALSCALE:GREGORIAN
METHOD:PUBLISH
X-WR-CALNAME:Sea-Gal מועדון היאכטות הישראלי
X-ORIGINAL-URL:https://www.sea-gal.co.il
X-WR-CALDESC:אירועים ל Sea-Gal מועדון היאכטות הישראלי
BEGIN:VTIMEZONE
TZID:Asia/Jerusalem
BEGIN:DAYLIGHT
TZOFFSETFROM:+0200
TZOFFSETTO:+0300
TZNAME:IDT
DTSTART:20210326T000000
END:DAYLIGHT
BEGIN:STANDARD
TZOFFSETFROM:+0300
TZOFFSETTO:+0200
TZNAME:IST
DTSTART:20211030T230000
END:STANDARD
END:VTIMEZONE
BEGIN:VEVENT
DTSTART;TZID=Asia/Jerusalem:20210614T150000
DTEND;TZID=Asia/Jerusalem:20211003T170000
DTSTAMP:20210923T133319
CREATED:20200827T115507Z
LAST-MODIFIED:20210527T110107Z
UID:13272-1623682800-1633280400@www.sea-gal.co.il
SUMMARY:הסמכה ''אמילי" לסקיפרים (חברי מועדון מעל שנתיים)
DESCRIPTION:חפרפרת תחתונה (חצי שעה): \n\n\n\nהפעילות\nהערות\n\n\n\n\n\n\n\nמיקום חגורות הצלה\n\n\n\n\n\n\n\n\nמיקום ברז דלק ראשי\n\n\n\n\n\n\n\n\nמיקום ברז גז\n\n\n\n\n\n\n\n\nמיקום ברייקרים ראשיים  \n(של החשמל)\n\n\n\n\n\n\n\n\nמיקום פירוטכני\n\n\n\n\n\n\n\n\nמיקום תיק עזרה ראשונה\n\n\n\n\n\n\n\n\nמקומות אופציונאליים לדליפת מים\n\n\n\n\n  \nחפרפרת עליונה (רבע שעה): \n\n\n\nהפעילות\nהערות\n\n\n\n\n\n\n\nחפרפרת חבלים\n\n\n\n\n\n\n\n\nכיצד מרימים מפרש ראשי\n\n\n\n\n\n\n\n\nהדלקה וכיבוי מנוע\n\n\n\n\n  \nתרגול מעשי (שעה בים): \n\n\n\nהפעילות\nהערות\n\n\n\n\n\n\n\nכל תלמיד נכנס ויוצא מהמזח\n\n\n\n\n\n\n\n\nיציאה אחת לים הרמה כללית והורדה כללית (כולם יחד)\nבמידת האפשר מבחינת זמנים\n\n\n\n  \nכללי ברזל לכל הפלגה: \n  \n\nברגע ששומעים צפצוף מכבים מיד את המנוע.\n\n\nאין גרירה עם הסירות (אבוב/סאפ/אדם בים).\n\n\nאין הורדת אנשים באיבטו! (הורדת מפרשים מלאה\, כיבוי מנוע מלא ואז ניתן לרדת למים).\n\n\nמעבר על חפרפרת חבלים.\n\n\nפתיחת וסגירת מפרשים תקינה.\n\n  \nהפלגה נעימה!
URL:https://www.sea-gal.co.il/event/13272/
CATEGORIES:לחברים בלבד,הפלגות
ATTACH;FMTTYPE=image/jpeg:https://www.sea-gal.co.il/wp-content/uploads/2020/06/gallery-4.jpg
END:VEVENT
BEGIN:VEVENT
DTSTART;TZID=Asia/Jerusalem:20210929T140000
DTEND;TZID=Asia/Jerusalem:20210929T160000
DTSTAMP:20210923T133319
CREATED:20210827T071325Z
LAST-MODIFIED:20210827T071326Z
UID:16582-1632924000-1632931200@www.sea-gal.co.il
SUMMARY:הפלגת קורס ניווט מכשירים לתלמידים בלבד
DESCRIPTION:הסבר על כל המכשירים\n\n\nנווטקס\nGPS – צארט פלוטר\nפאנל חשמל\nלהראות מד עומק ומהירות בקרקעית היאכטה\n\n\nיציאה לים\n\n\nהגה אוטומט כנגד צארט פלוטר (מלמטה מישהו מכוון מלעלה נוהג)\nמד רוח/כיוון רוח\nעומק\nמהירות\n\n 
URL:https://www.sea-gal.co.il/event/%d7%94%d7%a4%d7%9c%d7%92%d7%aa-%d7%a7%d7%95%d7%a8%d7%a1-%d7%a0%d7%99%d7%95%d7%95%d7%98-%d7%9e%d7%9b%d7%a9%d7%99%d7%a8%d7%99%d7%9d-%d7%9c%d7%aa%d7%9c%d7%9e%d7%99%d7%93%d7%99%d7%9d-%d7%91%d7%9c%d7%91-31/
CATEGORIES:הפלגות
ATTACH;FMTTYPE=image/jpeg:https://www.sea-gal.co.il/wp-content/uploads/2020/11/תמונה-אורלי-scaled.jpg
END:VEVENT
BEGIN:VEVENT
DTSTART;TZID=Asia/Jerusalem:20210929T160000
DTEND;TZID=Asia/Jerusalem:20210929T180000
DTSTAMP:20210923T133319
CREATED:20210827T071454Z
LAST-MODIFIED:20210827T071455Z
UID:16585-1632931200-1632938400@www.sea-gal.co.il
SUMMARY:הפלגת קורס ניווט חופי לתלמידים בלבד
DESCRIPTION:תכווין מעבר\nיציאה לים\nהכנת טבלת דיויאציה (4 כיוונים מספיק)\nהוצאת פיקס (תרגול תלמידים)\nהשאר מריצים תכווינים\nהמדריך מבצע בדיקת GPS\nאם נשאר זמן – לעשות לבדיקת ליווי כללי\n\n 
URL:https://www.sea-gal.co.il/event/%d7%94%d7%a4%d7%9c%d7%92%d7%aa-%d7%a7%d7%95%d7%a8%d7%a1-%d7%a0%d7%99%d7%95%d7%95%d7%98-%d7%97%d7%95%d7%a4%d7%99-%d7%9c%d7%aa%d7%9c%d7%9e%d7%99%d7%93%d7%99%d7%9d-%d7%91%d7%9c%d7%91%d7%93-25/
CATEGORIES:הפלגות
ATTACH;FMTTYPE=image/jpeg:https://www.sea-gal.co.il/wp-content/uploads/2020/11/קירה-תמונה-2-1.jpg
END:VEVENT
BEGIN:VEVENT
DTSTART;TZID=Asia/Jerusalem:20210929T210000
DTEND;TZID=Asia/Jerusalem:20210929T230000
DTSTAMP:20210923T133319
CREATED:20210826T095209Z
LAST-MODIFIED:20210826T095210Z
UID:16519-1632949200-1632956400@www.sea-gal.co.il
SUMMARY:הפלגת לילה לסקיפרים חברי מועדון ''מקרים ותגובות 2''
DESCRIPTION:סילבוס ההפלגה: בהובלת הסקיפר משה כהן \nעד 8 סקיפרים \n  \n\n\n\nהפעילות\nהערות\n\n\n\n\n\n\n\nיציאה מהמרינה\n\n\n\n\n\n\n\n\nבפתח- כיבוי מנוע\n\n\n\n\n\n\n\n\nפתיחת חלוץ- בריחה מסכנה\n\n\n\n\n\n\n\n\nקריעת ונטה\n\n\n\n\n\n\n\n\nקריעת מיתר חלוץ\n\n\n\n\n\n\n\n\nתקלת הגה\n\n\n\n\n\n\n\n\nהורדת עוגן צף- רק במידה ונשאר זמן\n\n\n\n\n  \nלא יבוצעו תרגולים אישיים! \n  \nמשך הפלגה: שעתיים \n  \nכללי ברזל לכל הפלגה: \n  \n\nברגע ששומעים צפצוף מכבים מיד את המנוע.\n\n\nאין גרירה עם הסירות (אבוב/סאפ/אדם בים).\n\n\nאין הורדת אנשים באיבטו! (הורדת מפרשים מלאה\, כיבוי מנוע מלא ואז ניתן לרדת למים).\n\n\nמעבר על חפרפרת חבלים.\n\n\nפתיחת וסגירת מפרשים תקינה.\n\n  \n  \nהפלגה נעימה!
URL:https://www.sea-gal.co.il/event/%d7%94%d7%a4%d7%9c%d7%92%d7%aa-%d7%9c%d7%99%d7%9c%d7%94-%d7%9c%d7%a1%d7%a7%d7%99%d7%a4%d7%a8%d7%99%d7%9d-%d7%97%d7%91%d7%a8%d7%99-%d7%9e%d7%95%d7%a2%d7%93%d7%95%d7%9f-%d7%9e%d7%a7%d7%a8%d7%99-2/
CATEGORIES:מקודמים בדף הבית,לחברים בלבד,הפלגות
ATTACH;FMTTYPE=image/jpeg:https://www.sea-gal.co.il/wp-content/uploads/2019/07/גישות-דופן.jpg
END:VEVENT
END:VCALENDAR